BEGIN:VCALENDAR
PRODID:-//eluceo/ical//2.0/EN
VERSION:2.0
CALSCALE:GREGORIAN
BEGIN:VEVENT
UID:9f00096dab9587960597c5c095a2b8b3
DTSTAMP:20260422T140213Z
SUMMARY:[Männer LK2] EK Bernhausen  - CVJM Kirchentellinsfurt 
URL:https://www.eichenkreuzliga.de/handball/game/id/12583
DTSTART:20201010T154500
DTEND:20201010T164500
LOCATION:Elisabeth-Selbert-Gymnasium Halle\, 70794 Bernhausen
END:VEVENT
BEGIN:VEVENT
UID:a895e2095a79c03fa24a21b6b0829c75
DTSTAMP:20260422T140213Z
SUMMARY:[weibliche A-Jugend Runde] EK Bernhausen  - CVJM Hülben 
URL:https://www.eichenkreuzliga.de/handball/game/id/12729
DTSTART:20201010T134500
DTEND:20201010T144500
LOCATION:Elisabeth-Selbert-Gymnasium Halle\, 70794 Bernhausen
END:VEVENT
BEGIN:VEVENT
UID:9803a12fb749a5814ba58c9a12774799
DTSTAMP:20260422T140213Z
SUMMARY:[ ]   -  
URL:https://www.eichenkreuzliga.de/handball/game/id/12996
DTSTART:20201010T173000
DTEND:20201010T183000
LOCATION:Elisabeth-Selbert-Gymnasium Halle\, 70794 Bernhausen
END:VEVENT
BEGIN:VEVENT
UID:44ec9f9ca84c3e4f73ef08b1fa021a37
DTSTAMP:20260422T140213Z
SUMMARY:[ ]   -  
URL:https://www.eichenkreuzliga.de/handball/game/id/12997
DTSTART:20201010T200000
DTEND:20201010T210000
LOCATION:Elisabeth-Selbert-Gymnasium Halle\, 70794 Bernhausen
END:VEVENT
END:VCALENDAR
