BEGIN:VCALENDAR
PRODID:-//eluceo/ical//2.0/EN
VERSION:2.0
CALSCALE:GREGORIAN
BEGIN:VEVENT
UID:eed133e273c637357110b0085e6997d3
DTSTAMP:20260422T164330Z
SUMMARY:[Männer Lk3] CVJM Kirchentellinsfurt 1b - CVJM Plochingen 
URL:https://www.eichenkreuzliga.de/handball/game/id/12610
DTSTART:20201011T173000
DTEND:20201011T183000
LOCATION:Sporthalle\, 72138 Kirchentellinsfurt
END:VEVENT
END:VCALENDAR
