BEGIN:VCALENDAR
PRODID:-//eluceo/ical//2.0/EN
VERSION:2.0
CALSCALE:GREGORIAN
BEGIN:VEVENT
UID:71ab07e403e947f5cdd9be04eae91178
DTSTAMP:20260422T140239Z
SUMMARY:[männliche B-Jugend Runde] CVJM Flacht  - CVJM Wildberg 
URL:https://www.eichenkreuzliga.de/handball/game/id/12878
DTSTART:20201017T160000
DTEND:20201017T170000
LOCATION:Sporthalle Flacht\, 71287 Weissach
END:VEVENT
END:VCALENDAR
