BEGIN:VCALENDAR
PRODID:-//eluceo/ical//2.0/EN
VERSION:2.0
CALSCALE:GREGORIAN
BEGIN:VEVENT
UID:f301a38d26382b45f8aa41652f8c49c6
DTSTAMP:20260422T122729Z
SUMMARY:[männliche C-Jugend Runde] EK Höfingen  - EJW Münchingen 
URL:https://www.eichenkreuzliga.de/handball/game/id/12783
DTSTART:20201017T130000
DTEND:20201017T140000
LOCATION:Strohgäuhalle\, 71229 Höfingen
END:VEVENT
BEGIN:VEVENT
UID:ebcd7d56746b220f135d12d0f1f46511
DTSTAMP:20260422T122729Z
SUMMARY:[männliche A-Jugend Runde] EK Höfingen  - CVJM  Walddorfhäslach 
URL:https://www.eichenkreuzliga.de/handball/game/id/12931
DTSTART:20201017T150000
DTEND:20201017T160000
LOCATION:Strohgäuhalle\, 71229 Höfingen
END:VEVENT
END:VCALENDAR
