BEGIN:VCALENDAR
PRODID:-//eluceo/ical//2.0/EN
VERSION:2.0
CALSCALE:GREGORIAN
BEGIN:VEVENT
UID:88c550aa4468c7463066ff31b85db915
DTSTAMP:20260422T140350Z
SUMMARY:[weibliche C-Jugend Runde] CVJM Hülben  - CVJM Kirchentellinsfurt 
URL:https://www.eichenkreuzliga.de/handball/game/id/12368
DTSTART:20201107T153000
DTEND:20201107T163000
LOCATION:Gymnasiumsporthalle\, 73207 Plochingen
END:VEVENT
BEGIN:VEVENT
UID:3f139ea4191543112a5fec4de21d3d30
DTSTAMP:20260422T140350Z
SUMMARY:[Männer Lk3] CVJM Plochingen  - CVJM Kirchentellinsfurt 1b
URL:https://www.eichenkreuzliga.de/handball/game/id/12611
DTSTART:20201107T173000
DTEND:20201107T183000
LOCATION:Gymnasiumsporthalle\, 73207 Plochingen
END:VEVENT
END:VCALENDAR
