BEGIN:VCALENDAR
PRODID:-//eluceo/ical//2.0/EN
VERSION:2.0
CALSCALE:GREGORIAN
BEGIN:VEVENT
UID:33e2eebc94431b9a8d5331592d62b584
DTSTAMP:20260422T082447Z
SUMMARY:[männliche E-Jugend Runde] CVJM Fellbach  - CVJM Hülben 
URL:https://www.eichenkreuzliga.de/handball/game/id/11384
DTSTART:20201107T120000
DTEND:20201107T130000
LOCATION:Zeppelinhalle\, 70734 Fellbach
END:VEVENT
BEGIN:VEVENT
UID:f2fb2c79e0568f1ab62154ee377d3a40
DTSTAMP:20260422T082447Z
SUMMARY:[männliche E-Jugend Runde] CVJM Fellbach  - CVJM Kirchentellinsfur
 t 
URL:https://www.eichenkreuzliga.de/handball/game/id/11385
DTSTART:20201107T140000
DTEND:20201107T150000
LOCATION:Zeppelinhalle\, 70734 Fellbach
END:VEVENT
BEGIN:VEVENT
UID:e6daf598518211921560c971b04f4ed4
DTSTAMP:20260422T082447Z
SUMMARY:[männliche E-Jugend Runde] CVJM Hagelloch - Kusterdingen 1 - CVJM 
 Kirchentellinsfurt 
URL:https://www.eichenkreuzliga.de/handball/game/id/11386
DTSTART:20201107T150000
DTEND:20201107T160000
LOCATION:Zeppelinhalle\, 70734 Fellbach
END:VEVENT
BEGIN:VEVENT
UID:63349afe58da5b382096c6a9a8ccbf1b
DTSTAMP:20260422T082447Z
SUMMARY:[männliche E-Jugend Runde] CVJM Hagelloch - Kusterdingen 1 - CVJM 
 Hülben 
URL:https://www.eichenkreuzliga.de/handball/game/id/11387
DTSTART:20201107T130000
DTEND:20201107T140000
LOCATION:Zeppelinhalle\, 70734 Fellbach
END:VEVENT
BEGIN:VEVENT
UID:b0bc824082274547cee4b64f9278d748
DTSTAMP:20260422T082447Z
SUMMARY:[männliche E-Jugend Runde] CVJM Fellbach  - CVJM Hagelloch - Kuste
 rdingen 1
URL:https://www.eichenkreuzliga.de/handball/game/id/11388
DTSTART:20201107T160000
DTEND:20201107T170000
LOCATION:Zeppelinhalle\, 70734 Fellbach
END:VEVENT
BEGIN:VEVENT
UID:65deca19132e260f094272547869631e
DTSTAMP:20260422T082447Z
SUMMARY:[weibliche A-Jugend Runde] CVJM Fellbach  - CVJM  Walddorfhäslach 
URL:https://www.eichenkreuzliga.de/handball/game/id/12725
DTSTART:20201107T170000
DTEND:20201107T180000
LOCATION:Zeppelinhalle\, 70734 Fellbach
END:VEVENT
BEGIN:VEVENT
UID:4792813769dbe5b4aea7c6b1a30424e4
DTSTAMP:20260422T082447Z
SUMMARY:[Männer LK4] CVJM Fellbach  - CVJM Kusterdingen e.V. 
URL:https://www.eichenkreuzliga.de/handball/game/id/13057
DTSTART:20201107T200000
DTEND:20201107T210000
LOCATION:Zeppelinhalle\, 70734 Fellbach
END:VEVENT
BEGIN:VEVENT
UID:9343b768809acd6fb92c324d9138f3ef
DTSTAMP:20260422T082447Z
SUMMARY:[männliche A-Jugend Runde] CVJM Fellbach  - EK Bernhausen 
URL:https://www.eichenkreuzliga.de/handball/game/id/13095
DTSTART:20201107T183000
DTEND:20201107T193000
LOCATION:Zeppelinhalle\, 70734 Fellbach
END:VEVENT
BEGIN:VEVENT
UID:7fcb3262e19adadc995a7e1869c8d083
DTSTAMP:20260422T082447Z
SUMMARY:[ ]   -  
URL:https://www.eichenkreuzliga.de/handball/game/id/13151
DTSTART:20201107T144500
DTEND:20201107T154500
LOCATION:Zeppelinhalle\, 70734 Fellbach
END:VEVENT
END:VCALENDAR
