BEGIN:VCALENDAR
PRODID:-//eluceo/ical//2.0/EN
VERSION:2.0
CALSCALE:GREGORIAN
BEGIN:VEVENT
UID:ab1edcc1fee00a47c0995a5911fff49b
DTSTAMP:20260422T140336Z
SUMMARY:[Frauen Landesliga] CVJM Möglingen  - HSG Schönbuch 
URL:https://www.eichenkreuzliga.de/handball/game/id/11641
DTSTART:20201114T163000
DTEND:20201114T173000
LOCATION:Stadionhalle\, 71696 Möglingen
END:VEVENT
BEGIN:VEVENT
UID:c0b4c7c9f1c283ee0b3dd7936d4b2895
DTSTAMP:20260422T140336Z
SUMMARY:[weibliche A-Jugend Runde] CVJM Möglingen  - CVJM Hülben 
URL:https://www.eichenkreuzliga.de/handball/game/id/12728
DTSTART:20201114T143000
DTEND:20201114T153000
LOCATION:Stadionhalle\, 71696 Möglingen
END:VEVENT
BEGIN:VEVENT
UID:822a6414afdb0718af477334a0d1bef8
DTSTAMP:20260422T140336Z
SUMMARY:[ ]   -  
URL:https://www.eichenkreuzliga.de/handball/game/id/13126
DTSTART:20201114T200000
DTEND:20201114T210000
LOCATION:Stadionhalle\, 71696 Möglingen
END:VEVENT
END:VCALENDAR
