BEGIN:VCALENDAR
PRODID:-//eluceo/ical//2.0/EN
VERSION:2.0
CALSCALE:GREGORIAN
BEGIN:VEVENT
UID:8a823c39df79de597cd9c421bd04edff
DTSTAMP:20260422T140215Z
SUMMARY:[Frauen Landesliga] CVJM  Walddorfhäslach  - CVJM HB Dußlingen-Go
 maringen 1
URL:https://www.eichenkreuzliga.de/handball/game/id/11640
DTSTART:20201115T190000
DTEND:20201115T200000
LOCATION:Ballspielhalle\, 72141 Walddorfhäslach
END:VEVENT
BEGIN:VEVENT
UID:ffa58e5063a9cb93159f3d6bb4f002ef
DTSTAMP:20260422T140215Z
SUMMARY:[weibliche A-Jugend Runde] CVJM  Walddorfhäslach  - CVJM HB Dußli
 ngen-Gomaringen 
URL:https://www.eichenkreuzliga.de/handball/game/id/12720
DTSTART:20201115T150000
DTEND:20201115T160000
LOCATION:Ballspielhalle\, 72141 Walddorfhäslach
END:VEVENT
BEGIN:VEVENT
UID:ad24c3c5c9ef0b174bda44af03c75e70
DTSTAMP:20260422T140215Z
SUMMARY:[männliche B-Jugend Runde] CVJM  Walddorfhäslach  - EJW Münching
 en 
URL:https://www.eichenkreuzliga.de/handball/game/id/12885
DTSTART:20201115T130000
DTEND:20201115T140000
LOCATION:Ballspielhalle\, 72141 Walddorfhäslach
END:VEVENT
BEGIN:VEVENT
UID:994b6bb369cf793c96c64592699bdb35
DTSTAMP:20260422T140215Z
SUMMARY:[männliche A-Jugend Runde] CVJM  Walddorfhäslach  - EK Köngen 
URL:https://www.eichenkreuzliga.de/handball/game/id/12975
DTSTART:20201115T170000
DTEND:20201115T180000
LOCATION:Ballspielhalle\, 72141 Walddorfhäslach
END:VEVENT
END:VCALENDAR
