BEGIN:VCALENDAR
PRODID:-//eluceo/ical//2.0/EN
VERSION:2.0
CALSCALE:GREGORIAN
BEGIN:VEVENT
UID:38d0142a8b09e003311c00fe09cd2d7b
DTSTAMP:20260422T140351Z
SUMMARY:[Männer Landesliga] CVJM Flacht  - CVJM Möglingen 
URL:https://www.eichenkreuzliga.de/handball/game/id/12525
DTSTART:20201121T160000
DTEND:20201121T170000
LOCATION:Sporthalle Flacht\, 71287 Weissach
END:VEVENT
END:VCALENDAR
