BEGIN:VCALENDAR
PRODID:-//eluceo/ical//2.0/EN
VERSION:2.0
CALSCALE:GREGORIAN
BEGIN:VEVENT
UID:7808d50e876ac69e254ebc3a16d4b098
DTSTAMP:20260422T082312Z
SUMMARY:[weibliche E-Jugend Runde] EK Bernhausen  - CVJM HB Dußlingen-Goma
 ringen 1
URL:https://www.eichenkreuzliga.de/handball/game/id/11360
DTSTART:20201121T110000
DTEND:20201121T120000
LOCATION:Elisabeth-Selbert-Gymnasium Halle\, 70794 Bernhausen
END:VEVENT
BEGIN:VEVENT
UID:5270f33277cf95b045724df8a1018268
DTSTAMP:20260422T082312Z
SUMMARY:[männliche E-Jugend Runde] CVJM Kusterdingen e.V.  - EJW Münching
 en 
URL:https://www.eichenkreuzliga.de/handball/game/id/11428
DTSTART:20201121T130000
DTEND:20201121T140000
LOCATION:Elisabeth-Selbert-Gymnasium Halle\, 70794 Bernhausen
END:VEVENT
BEGIN:VEVENT
UID:da05bb55f68b87b225596b62c25a8ce3
DTSTAMP:20260422T082312Z
SUMMARY:[männliche E-Jugend Runde] EK Bernhausen 1 - CVJM Kusterdingen e.V
 . 
URL:https://www.eichenkreuzliga.de/handball/game/id/11429
DTSTART:20201121T120000
DTEND:20201121T130000
LOCATION:Elisabeth-Selbert-Gymnasium Halle\, 70794 Bernhausen
END:VEVENT
BEGIN:VEVENT
UID:ca804987bcae4d3530b1deb8f6f9d7b8
DTSTAMP:20260422T082312Z
SUMMARY:[männliche E-Jugend Runde] EK Bernhausen 1 - CVJM Möglingen 
URL:https://www.eichenkreuzliga.de/handball/game/id/11430
DTSTART:20201121T150000
DTEND:20201121T160000
LOCATION:Elisabeth-Selbert-Gymnasium Halle\, 70794 Bernhausen
END:VEVENT
BEGIN:VEVENT
UID:1ab155d1069891bc532f690ce23ec066
DTSTAMP:20260422T082312Z
SUMMARY:[männliche E-Jugend Runde] CVJM Möglingen  - EJW Münchingen 
URL:https://www.eichenkreuzliga.de/handball/game/id/11431
DTSTART:20201121T140000
DTEND:20201121T150000
LOCATION:Elisabeth-Selbert-Gymnasium Halle\, 70794 Bernhausen
END:VEVENT
BEGIN:VEVENT
UID:954d22acc889645cfaa5a3c90f40cf23
DTSTAMP:20260422T082312Z
SUMMARY:[Frauen Landesliga] EK Bernhausen  - CVJM Möglingen 
URL:https://www.eichenkreuzliga.de/handball/game/id/11648
DTSTART:20201121T200000
DTEND:20201121T210000
LOCATION:Elisabeth-Selbert-Gymnasium Halle\, 70794 Bernhausen
END:VEVENT
BEGIN:VEVENT
UID:0ee06a142824dc18dc4e0458f49c0638
DTSTAMP:20260422T082312Z
SUMMARY:[weibliche C-Jugend Runde] EK Bernhausen  - CVJM Hülben 
URL:https://www.eichenkreuzliga.de/handball/game/id/12391
DTSTART:20201121T160500
DTEND:20201121T170500
LOCATION:Elisabeth-Selbert-Gymnasium Halle\, 70794 Bernhausen
END:VEVENT
BEGIN:VEVENT
UID:d78d7669a7545969c31441281b7504af
DTSTAMP:20260422T082312Z
SUMMARY:[männliche A-Jugend Runde] EK Bernhausen  - EK Köngen 
URL:https://www.eichenkreuzliga.de/handball/game/id/12941
DTSTART:20201121T180000
DTEND:20201121T190000
LOCATION:Elisabeth-Selbert-Gymnasium Halle\, 70794 Bernhausen
END:VEVENT
BEGIN:VEVENT
UID:04c4f5613aa607a8ca55f29acf0e9df8
DTSTAMP:20260422T082312Z
SUMMARY:[ ]   -  
URL:https://www.eichenkreuzliga.de/handball/game/id/13153
DTSTART:20201121T124500
DTEND:20201121T134500
LOCATION:Elisabeth-Selbert-Gymnasium Halle\, 70794 Bernhausen
END:VEVENT
END:VCALENDAR
