BEGIN:VCALENDAR
PRODID:-//eluceo/ical//2.0/EN
VERSION:2.0
CALSCALE:GREGORIAN
BEGIN:VEVENT
UID:05114906ef1dea31cfe644241f06ad90
DTSTAMP:20260422T082457Z
SUMMARY:[männliche E-Jugend Runde] CVJM  Walddorfhäslach  - CVJM Ploching
 en a.K.
URL:https://www.eichenkreuzliga.de/handball/game/id/11514
DTSTART:20201121T120000
DTEND:20201121T130000
LOCATION:Ballspielhalle\, 72141 Walddorfhäslach
END:VEVENT
BEGIN:VEVENT
UID:be76dea0a75e171dc39a8ffe23d229d4
DTSTAMP:20260422T082457Z
SUMMARY:[männliche E-Jugend Runde] CVJM  Walddorfhäslach  - CVJM SG Möss
 ingen/Belsen 
URL:https://www.eichenkreuzliga.de/handball/game/id/11515
DTSTART:20201121T144000
DTEND:20201121T154000
LOCATION:Ballspielhalle\, 72141 Walddorfhäslach
END:VEVENT
BEGIN:VEVENT
UID:d0fedb0bde480aff066078c1d697a81e
DTSTAMP:20260422T082457Z
SUMMARY:[männliche E-Jugend Runde] CVJM Enzweihingen  - CVJM Plochingen a.
 K.
URL:https://www.eichenkreuzliga.de/handball/game/id/11516
DTSTART:20201121T125000
DTEND:20201121T135000
LOCATION:Ballspielhalle\, 72141 Walddorfhäslach
END:VEVENT
BEGIN:VEVENT
UID:2f370866303c4b0d46a0686aeca8f74d
DTSTAMP:20260422T082457Z
SUMMARY:[männliche E-Jugend Runde] CVJM Enzweihingen  - CVJM SG Mössingen
 /Belsen 
URL:https://www.eichenkreuzliga.de/handball/game/id/11517
DTSTART:20201121T135000
DTEND:20201121T145000
LOCATION:Ballspielhalle\, 72141 Walddorfhäslach
END:VEVENT
BEGIN:VEVENT
UID:6c3b506ceb04d2504542d4b6428d630a
DTSTAMP:20260422T082457Z
SUMMARY:[Frauen Landesliga] CVJM  Walddorfhäslach  - CVJM SG Mössingen/Be
 lsen 
URL:https://www.eichenkreuzliga.de/handball/game/id/11646
DTSTART:20201121T194500
DTEND:20201121T204500
LOCATION:Ballspielhalle\, 72141 Walddorfhäslach
END:VEVENT
BEGIN:VEVENT
UID:09366f7a2da084da49ebdb76f57b0090
DTSTAMP:20260422T082457Z
SUMMARY:[männliche C-Jugend Runde] CVJM  Walddorfhäslach  - CVJM Kirchent
 ellinsfurt 
URL:https://www.eichenkreuzliga.de/handball/game/id/12799
DTSTART:20201121T160000
DTEND:20201121T170000
LOCATION:Ballspielhalle\, 72141 Walddorfhäslach
END:VEVENT
BEGIN:VEVENT
UID:617b3f9b8ae66776fbce37bfdcbc15f5
DTSTAMP:20260422T082457Z
SUMMARY:[männliche A-Jugend Runde] CVJM  Walddorfhäslach  - CVJM HB Dußl
 ingen-Gomaringen 
URL:https://www.eichenkreuzliga.de/handball/game/id/12977
DTSTART:20201121T180000
DTEND:20201121T190000
LOCATION:Ballspielhalle\, 72141 Walddorfhäslach
END:VEVENT
BEGIN:VEVENT
UID:4cf19cf0c6e0398da28fd002492d38a9
DTSTAMP:20260422T082457Z
SUMMARY:[ ]   -  
URL:https://www.eichenkreuzliga.de/handball/game/id/13082
DTSTART:20201121T133000
DTEND:20201121T143000
LOCATION:Ballspielhalle\, 72141 Walddorfhäslach
END:VEVENT
END:VCALENDAR
