BEGIN:VCALENDAR
PRODID:-//eluceo/ical//2.0/EN
VERSION:2.0
CALSCALE:GREGORIAN
BEGIN:VEVENT
UID:0102229fd3e532660b26acbe489dfe67
DTSTAMP:20260422T140350Z
SUMMARY:[männliche D-Jugend Runde] CVJM  Walddorfhäslach  - CVJM Ploching
 en 
URL:https://www.eichenkreuzliga.de/handball/game/id/11539
DTSTART:20201128T130000
DTEND:20201128T140000
LOCATION:Stadionhalle\, 71696 Möglingen
END:VEVENT
BEGIN:VEVENT
UID:5aa09525c504c25fb11e59921335edea
DTSTAMP:20260422T140350Z
SUMMARY:[männliche D-Jugend Runde] CVJM Möglingen  - CVJM Fellbach 
URL:https://www.eichenkreuzliga.de/handball/game/id/11540
DTSTART:20201128T110000
DTEND:20201128T120000
LOCATION:Stadionhalle\, 71696 Möglingen
END:VEVENT
BEGIN:VEVENT
UID:cbe33162510bf9b4ec6db210912f0159
DTSTAMP:20260422T140350Z
SUMMARY:[männliche D-Jugend Runde] CVJM Fellbach  - CVJM Plochingen 
URL:https://www.eichenkreuzliga.de/handball/game/id/11541
DTSTART:20201128T120000
DTEND:20201128T130000
LOCATION:Stadionhalle\, 71696 Möglingen
END:VEVENT
BEGIN:VEVENT
UID:64d5192ec4eb86e1c3ea68f82be2277e
DTSTAMP:20260422T140350Z
SUMMARY:[männliche D-Jugend Runde] CVJM Möglingen  - CVJM  Walddorfhäsla
 ch 
URL:https://www.eichenkreuzliga.de/handball/game/id/11542
DTSTART:20201128T140000
DTEND:20201128T150000
LOCATION:Stadionhalle\, 71696 Möglingen
END:VEVENT
BEGIN:VEVENT
UID:7e0be52b7e36569e30b7507a4d0d1e29
DTSTAMP:20260422T140350Z
SUMMARY:[Männer LK4] CVJM Möglingen 1b - SG Grunbach Winterbach 
URL:https://www.eichenkreuzliga.de/handball/game/id/13041
DTSTART:20201128T160000
DTEND:20201128T170000
LOCATION:Stadionhalle\, 71696 Möglingen
END:VEVENT
BEGIN:VEVENT
UID:496ea20f91e9767d213e687b7ca5015c
DTSTAMP:20260422T140350Z
SUMMARY:[Männer Landesliga] CVJM Möglingen  - EK Höfingen 
URL:https://www.eichenkreuzliga.de/handball/game/id/13113
DTSTART:20201128T180000
DTEND:20201128T190000
LOCATION:Stadionhalle\, 71696 Möglingen
END:VEVENT
BEGIN:VEVENT
UID:d40e365653580d0a2da0ee85f0daca89
DTSTAMP:20260422T140350Z
SUMMARY:[ ]   -  
URL:https://www.eichenkreuzliga.de/handball/game/id/13128
DTSTART:20201128T200000
DTEND:20201128T210000
LOCATION:Stadionhalle\, 71696 Möglingen
END:VEVENT
BEGIN:VEVENT
UID:3efdb0d1e4d4b58582b05fc9df3b978d
DTSTAMP:20260422T140350Z
SUMMARY:[ ]   -  
URL:https://www.eichenkreuzliga.de/handball/game/id/13144
DTSTART:20201128T124500
DTEND:20201128T134500
LOCATION:Stadionhalle\, 71696 Möglingen
END:VEVENT
END:VCALENDAR
