BEGIN:VCALENDAR
PRODID:-//eluceo/ical//2.0/EN
VERSION:2.0
CALSCALE:GREGORIAN
BEGIN:VEVENT
UID:2207950e0c6f44522850cdca0e076e61
DTSTAMP:20260422T140213Z
SUMMARY:[weibliche C-Jugend Runde] CVJM Kirchentellinsfurt  - CVJM HB Dußl
 ingen-Gomaringen 1
URL:https://www.eichenkreuzliga.de/handball/game/id/12379
DTSTART:20201129T133000
DTEND:20201129T143000
LOCATION:Sporthalle\, 72138 Kirchentellinsfurt
END:VEVENT
BEGIN:VEVENT
UID:4eda022097c297397e7063b36f62f870
DTSTAMP:20260422T140213Z
SUMMARY:[Männer LK2] CVJM Kirchentellinsfurt  - CVJM  Walddorfhäslach 2
URL:https://www.eichenkreuzliga.de/handball/game/id/12564
DTSTART:20201129T170000
DTEND:20201129T180000
LOCATION:Sporthalle\, 72138 Kirchentellinsfurt
END:VEVENT
BEGIN:VEVENT
UID:971f5437ead2b9562e59eecc3dcb043c
DTSTAMP:20260422T140213Z
SUMMARY:[männliche C-Jugend Runde] CVJM Kirchentellinsfurt  - CVJM Enzweih
 ingen 
URL:https://www.eichenkreuzliga.de/handball/game/id/12815
DTSTART:20201129T151500
DTEND:20201129T161500
LOCATION:Sporthalle\, 72138 Kirchentellinsfurt
END:VEVENT
END:VCALENDAR
