BEGIN:VCALENDAR
PRODID:-//eluceo/ical//2.0/EN
VERSION:2.0
CALSCALE:GREGORIAN
BEGIN:VEVENT
UID:2121184180112a937d09781be599d146
DTSTAMP:20260422T140351Z
SUMMARY:[weibliche E-Jugend Runde] EK Bernhausen  - CVJM Kirchentellinsfurt
  
URL:https://www.eichenkreuzliga.de/handball/game/id/11369
DTSTART:20201212T110000
DTEND:20201212T120000
LOCATION:Elisabeth-Selbert-Gymnasium Halle\, 70794 Bernhausen
END:VEVENT
BEGIN:VEVENT
UID:096f0082107125b112366091163cc7ac
DTSTAMP:20260422T140351Z
SUMMARY:[männliche C-Jugend Runde] EK Bernhausen  - CVJM Kirchentellinsfur
 t 
URL:https://www.eichenkreuzliga.de/handball/game/id/12802
DTSTART:20201212T123000
DTEND:20201212T133000
LOCATION:Elisabeth-Selbert-Gymnasium Halle\, 70794 Bernhausen
END:VEVENT
BEGIN:VEVENT
UID:627d2665ca87e677fe1f4432dd96bd88
DTSTAMP:20260422T140351Z
SUMMARY:[männliche B-Jugend Runde] EK Bernhausen  - EK Köngen 
URL:https://www.eichenkreuzliga.de/handball/game/id/12894
DTSTART:20201212T143000
DTEND:20201212T153000
LOCATION:Elisabeth-Selbert-Gymnasium Halle\, 70794 Bernhausen
END:VEVENT
BEGIN:VEVENT
UID:2a3624f9ec8270d7f697b9e4791b9aa4
DTSTAMP:20260422T140351Z
SUMMARY:[ ]   -  
URL:https://www.eichenkreuzliga.de/handball/game/id/13003
DTSTART:20201212T200000
DTEND:20201212T210000
LOCATION:Elisabeth-Selbert-Gymnasium Halle\, 70794 Bernhausen
END:VEVENT
BEGIN:VEVENT
UID:1ee8d2dd04b5a5b1dd44f27f777af2b9
DTSTAMP:20260422T140351Z
SUMMARY:[ ]   -  
URL:https://www.eichenkreuzliga.de/handball/game/id/13013
DTSTART:20201212T160000
DTEND:20201212T170000
LOCATION:Elisabeth-Selbert-Gymnasium Halle\, 70794 Bernhausen
END:VEVENT
END:VCALENDAR
