BEGIN:VCALENDAR
PRODID:-//eluceo/ical//2.0/EN
VERSION:2.0
CALSCALE:GREGORIAN
BEGIN:VEVENT
UID:b7166d4899ba6444153776824dbc60ba
DTSTAMP:20260422T082502Z
SUMMARY:[männliche E-Jugend Runde] CVJM Kusterdingen e.V.  - CVJM Fellbach
  
URL:https://www.eichenkreuzliga.de/handball/game/id/11403
DTSTART:20201213T160000
DTEND:20201213T170000
LOCATION:Härtensporthalle\, 72127 Kusterdingen
END:VEVENT
BEGIN:VEVENT
UID:13af6326701cd3e03aa9eff6b0d7962a
DTSTAMP:20260422T082502Z
SUMMARY:[männliche E-Jugend Runde] CVJM Hagelloch - Kusterdingen 1 - CVJM 
 Möglingen 
URL:https://www.eichenkreuzliga.de/handball/game/id/11404
DTSTART:20201213T140000
DTEND:20201213T150000
LOCATION:Härtensporthalle\, 72127 Kusterdingen
END:VEVENT
BEGIN:VEVENT
UID:904362a61fc56ba4845befe5e3b8ea07
DTSTAMP:20260422T082502Z
SUMMARY:[männliche E-Jugend Runde] CVJM Kusterdingen e.V.  - CVJM Hagelloc
 h - Kusterdingen 1
URL:https://www.eichenkreuzliga.de/handball/game/id/11405
DTSTART:20201213T130000
DTEND:20201213T140000
LOCATION:Härtensporthalle\, 72127 Kusterdingen
END:VEVENT
BEGIN:VEVENT
UID:4d6d756869b8a9746afff11df05256d7
DTSTAMP:20260422T082502Z
SUMMARY:[männliche E-Jugend Runde] CVJM Fellbach  - CVJM Möglingen 
URL:https://www.eichenkreuzliga.de/handball/game/id/11406
DTSTART:20201213T150000
DTEND:20201213T160000
LOCATION:Härtensporthalle\, 72127 Kusterdingen
END:VEVENT
BEGIN:VEVENT
UID:77454fcff2a80af015e03ee334c057d0
DTSTAMP:20260422T082502Z
SUMMARY:[ ]   -  
URL:https://www.eichenkreuzliga.de/handball/game/id/13155
DTSTART:20201213T144500
DTEND:20201213T154500
LOCATION:Härtensporthalle\, 72127 Kusterdingen
END:VEVENT
END:VCALENDAR
