BEGIN:VCALENDAR
PRODID:-//eluceo/ical//2.0/EN
VERSION:2.0
CALSCALE:GREGORIAN
BEGIN:VEVENT
UID:3356e7a8cd03f7ce9c5b99f5693e5509
DTSTAMP:20260422T094857Z
SUMMARY:[männliche E-Jugend Runde] CVJM  Walddorfhäslach  - CVJM Hülben 
URL:https://www.eichenkreuzliga.de/handball/game/id/11399
DTSTART:20201213T150000
DTEND:20201213T160000
LOCATION:Ballspielhalle\, 72141 Walddorfhäslach
END:VEVENT
BEGIN:VEVENT
UID:bed4a58e8ffd28cc839489a083e194bd
DTSTAMP:20260422T094857Z
SUMMARY:[männliche E-Jugend Runde] CVJM Enzweihingen  - CVJM Kirchentellin
 sfurt 
URL:https://www.eichenkreuzliga.de/handball/game/id/11400
DTSTART:20201213T131000
DTEND:20201213T141000
LOCATION:Ballspielhalle\, 72141 Walddorfhäslach
END:VEVENT
BEGIN:VEVENT
UID:051f6158fc8adca1a0197870c0c3ca53
DTSTAMP:20260422T094857Z
SUMMARY:[männliche E-Jugend Runde] CVJM Enzweihingen  - CVJM Hülben 
URL:https://www.eichenkreuzliga.de/handball/game/id/11401
DTSTART:20201213T141000
DTEND:20201213T151000
LOCATION:Ballspielhalle\, 72141 Walddorfhäslach
END:VEVENT
BEGIN:VEVENT
UID:11e6e057e3a4bb1c5c95f93bd60565d3
DTSTAMP:20260422T094857Z
SUMMARY:[männliche E-Jugend Runde] CVJM  Walddorfhäslach  - CVJM Kirchent
 ellinsfurt 
URL:https://www.eichenkreuzliga.de/handball/game/id/11402
DTSTART:20201213T122000
DTEND:20201213T132000
LOCATION:Ballspielhalle\, 72141 Walddorfhäslach
END:VEVENT
BEGIN:VEVENT
UID:6b02134eafd6d955ddab5ff53c0ac88e
DTSTAMP:20260422T094857Z
SUMMARY:[männliche C-Jugend Runde] CVJM  Walddorfhäslach  - CVJM Fellbach
  
URL:https://www.eichenkreuzliga.de/handball/game/id/12804
DTSTART:20201213T161500
DTEND:20201213T171500
LOCATION:Ballspielhalle\, 72141 Walddorfhäslach
END:VEVENT
BEGIN:VEVENT
UID:e0df0570e2f365815a5441d32620312f
DTSTAMP:20260422T094857Z
SUMMARY:[männliche B-Jugend Runde] CVJM  Walddorfhäslach  - CVJM Flacht 
URL:https://www.eichenkreuzliga.de/handball/game/id/12890
DTSTART:20201213T180000
DTEND:20201213T190000
LOCATION:Ballspielhalle\, 72141 Walddorfhäslach
END:VEVENT
BEGIN:VEVENT
UID:11c2eb4baeb60ad90a60bcf13fc68cb9
DTSTAMP:20260422T094857Z
SUMMARY:[ ]   -  
URL:https://www.eichenkreuzliga.de/handball/game/id/13084
DTSTART:20201213T135000
DTEND:20201213T145000
LOCATION:Ballspielhalle\, 72141 Walddorfhäslach
END:VEVENT
END:VCALENDAR
