BEGIN:VCALENDAR
PRODID:-//eluceo/ical//2.0/EN
VERSION:2.0
CALSCALE:GREGORIAN
BEGIN:VEVENT
UID:c598e2d79cc2f5f7ef48be7a3a4dde81
DTSTAMP:20260422T122704Z
SUMMARY:[Männer Landesliga] CVJM Flacht  - CVJM SG Mössingen/Belsen 
URL:https://www.eichenkreuzliga.de/handball/game/id/12530
DTSTART:20201219T170000
DTEND:20201219T180000
LOCATION:Sporthalle Flacht\, 71287 Weissach
END:VEVENT
END:VCALENDAR
