BEGIN:VCALENDAR
PRODID:-//eluceo/ical//2.0/EN
VERSION:2.0
CALSCALE:GREGORIAN
BEGIN:VEVENT
UID:6934f7f89ede3c782b14f0c54656f07f
DTSTAMP:20260422T140240Z
SUMMARY:[männliche C-Jugend Runde] CVJM Kusterdingen e.V.  - EK Köngen 
URL:https://www.eichenkreuzliga.de/handball/game/id/12871
DTSTART:20201219T140000
DTEND:20201219T150000
LOCATION:Härtensporthalle\, 72127 Kusterdingen
END:VEVENT
END:VCALENDAR
