BEGIN:VCALENDAR
PRODID:-//eluceo/ical//2.0/EN
VERSION:2.0
CALSCALE:GREGORIAN
BEGIN:VEVENT
UID:40bc2345cbe5f715c2b4534d418af0c5
DTSTAMP:20260422T140336Z
SUMMARY:[weibliche C-Jugend Runde] EJW Münchingen  - CVJM Hülben 
URL:https://www.eichenkreuzliga.de/handball/game/id/12365
DTSTART:20201220T160000
DTEND:20201220T170000
LOCATION:Sporthalle Münchingen\, 70825 Korntal-Münchingen
END:VEVENT
BEGIN:VEVENT
UID:f8c4aab81fefba3686fe1c30dd40021d
DTSTAMP:20260422T140336Z
SUMMARY:[männliche B-Jugend Runde] EJW Münchingen  - EK Bernhausen 
URL:https://www.eichenkreuzliga.de/handball/game/id/12907
DTSTART:20201220T140000
DTEND:20201220T150000
LOCATION:Sporthalle Münchingen\, 70825 Korntal-Münchingen
END:VEVENT
END:VCALENDAR
