BEGIN:VCALENDAR
PRODID:-//eluceo/ical//2.0/EN
VERSION:2.0
CALSCALE:GREGORIAN
BEGIN:VEVENT
UID:3c88a29c50d850c2c9e59f7ae251f268
DTSTAMP:20260422T140220Z
SUMMARY:[weibliche D-Jugend Runde] CVJM Kirchentellinsfurt  - CVJM  Walddor
 fhäslach 
URL:https://www.eichenkreuzliga.de/handball/game/id/11351
DTSTART:20210117T133000
DTEND:20210117T143000
LOCATION:Sporthalle\, 72138 Kirchentellinsfurt
END:VEVENT
BEGIN:VEVENT
UID:9b819462156fdd2f61b96caa1881ffce
DTSTAMP:20260422T140220Z
SUMMARY:[Männer LK2] CVJM Kirchentellinsfurt  - CVJM SG Mössingen/Belsen 
 1b
URL:https://www.eichenkreuzliga.de/handball/game/id/12582
DTSTART:20210117T164500
DTEND:20210117T174500
LOCATION:Sporthalle\, 72138 Kirchentellinsfurt
END:VEVENT
BEGIN:VEVENT
UID:0527bed6816ae5e5d869b5ffc9fdc1dc
DTSTAMP:20260422T140220Z
SUMMARY:[männliche C-Jugend Runde] CVJM Kirchentellinsfurt  - EK Höfingen
  
URL:https://www.eichenkreuzliga.de/handball/game/id/12866
DTSTART:20210117T150000
DTEND:20210117T160000
LOCATION:Sporthalle\, 72138 Kirchentellinsfurt
END:VEVENT
END:VCALENDAR
