BEGIN:VCALENDAR
PRODID:-//eluceo/ical//2.0/EN
VERSION:2.0
CALSCALE:GREGORIAN
BEGIN:VEVENT
UID:d688a17d77e4b3fad00a20da99a5d312
DTSTAMP:20260422T111729Z
SUMMARY:[männliche E-Jugend Runde] CVJM Plochingen a.K. - EJW Münchingen 
URL:https://www.eichenkreuzliga.de/handball/game/id/11450
DTSTART:20210124T150000
DTEND:20210124T160000
LOCATION:Gymnasiumsporthalle\, 73207 Plochingen
END:VEVENT
BEGIN:VEVENT
UID:0e9793c2ee5c174da446365b67b83965
DTSTAMP:20260422T111729Z
SUMMARY:[männliche E-Jugend Runde] CVJM SG Mössingen/Belsen  - EK Bernhau
 sen 1
URL:https://www.eichenkreuzliga.de/handball/game/id/11451
DTSTART:20210124T160000
DTEND:20210124T170000
LOCATION:Gymnasiumsporthalle\, 73207 Plochingen
END:VEVENT
BEGIN:VEVENT
UID:67e9c8d501078bd996304cf445de4f12
DTSTAMP:20260422T111729Z
SUMMARY:[männliche E-Jugend Runde] CVJM SG Mössingen/Belsen  - EJW Münch
 ingen 
URL:https://www.eichenkreuzliga.de/handball/game/id/11452
DTSTART:20210124T140000
DTEND:20210124T150000
LOCATION:Gymnasiumsporthalle\, 73207 Plochingen
END:VEVENT
BEGIN:VEVENT
UID:6df6d14cd3b53a1bc5de5c4cdfd27d4e
DTSTAMP:20260422T111729Z
SUMMARY:[männliche E-Jugend Runde] CVJM Plochingen a.K. - EK Bernhausen 1
URL:https://www.eichenkreuzliga.de/handball/game/id/11453
DTSTART:20210124T130000
DTEND:20210124T140000
LOCATION:Gymnasiumsporthalle\, 73207 Plochingen
END:VEVENT
BEGIN:VEVENT
UID:b0753deb6b281076927d27707fdea3a0
DTSTAMP:20260422T111729Z
SUMMARY:[männliche E-Jugend Runde] CVJM Plochingen a.K. - CVJM SG Mössing
 en/Belsen 
URL:https://www.eichenkreuzliga.de/handball/game/id/11454
DTSTART:20210124T170000
DTEND:20210124T180000
LOCATION:Gymnasiumsporthalle\, 73207 Plochingen
END:VEVENT
BEGIN:VEVENT
UID:d23adab28ae6a39e24c73bea2481bf0e
DTSTAMP:20260422T111729Z
SUMMARY:[ ]   -  
URL:https://www.eichenkreuzliga.de/handball/game/id/13157
DTSTART:20210124T144500
DTEND:20210124T154500
LOCATION:Gymnasiumsporthalle\, 73207 Plochingen
END:VEVENT
END:VCALENDAR
