BEGIN:VCALENDAR
PRODID:-//eluceo/ical//2.0/EN
VERSION:2.0
CALSCALE:GREGORIAN
BEGIN:VEVENT
UID:b84d57bb1c97784d10c38add159a2851
DTSTAMP:20260422T111754Z
SUMMARY:[männliche E-Jugend Runde] EK Köngen  - CVJM HB Dußlingen-Gomari
 ngen 1
URL:https://www.eichenkreuzliga.de/handball/game/id/11455
DTSTART:20210124T130000
DTEND:20210124T140000
LOCATION:Burgschulhalle\, 73257 Köngen
END:VEVENT
BEGIN:VEVENT
UID:7ff6f2977dba9e5754d4a983e1010660
DTSTAMP:20260422T111754Z
SUMMARY:[männliche E-Jugend Runde] CVJM HB Dußlingen-Gomaringen 1 - EK H
 öfingen 
URL:https://www.eichenkreuzliga.de/handball/game/id/11456
DTSTART:20210124T170000
DTEND:20210124T180000
LOCATION:Burgschulhalle\, 73257 Köngen
END:VEVENT
BEGIN:VEVENT
UID:195894bb9829ad838becb8035b5e6397
DTSTAMP:20260422T111754Z
SUMMARY:[männliche E-Jugend Runde] CVJM HB Dußlingen-Gomaringen 2 A.K. - 
 EK Höfingen 
URL:https://www.eichenkreuzliga.de/handball/game/id/11457
DTSTART:20210124T140000
DTEND:20210124T150000
LOCATION:Burgschulhalle\, 73257 Köngen
END:VEVENT
BEGIN:VEVENT
UID:0a82e5cde0a573e0f1e0ee3aa558b38d
DTSTAMP:20260422T111754Z
SUMMARY:[männliche E-Jugend Runde] EK Köngen  - CVJM HB Dußlingen-Gomari
 ngen 2 A.K.
URL:https://www.eichenkreuzliga.de/handball/game/id/11458
DTSTART:20210124T160000
DTEND:20210124T170000
LOCATION:Burgschulhalle\, 73257 Köngen
END:VEVENT
BEGIN:VEVENT
UID:002721e854770f700b7b6fc56e79d51d
DTSTAMP:20260422T111754Z
SUMMARY:[männliche E-Jugend Runde] EK Köngen  - EK Höfingen 
URL:https://www.eichenkreuzliga.de/handball/game/id/11505
DTSTART:20210124T150000
DTEND:20210124T160000
LOCATION:Burgschulhalle\, 73257 Köngen
END:VEVENT
BEGIN:VEVENT
UID:594fb5feba262a2138eab52dc137da53
DTSTAMP:20260422T111754Z
SUMMARY:[ ]   -  
URL:https://www.eichenkreuzliga.de/handball/game/id/13158
DTSTART:20210124T144500
DTEND:20210124T154500
LOCATION:Burgschulhalle\, 73257 Köngen
END:VEVENT
END:VCALENDAR
