BEGIN:VCALENDAR
PRODID:-//eluceo/ical//2.0/EN
VERSION:2.0
CALSCALE:GREGORIAN
BEGIN:VEVENT
UID:aed51df36d5e116f8a89fb12793544c9
DTSTAMP:20260422T082437Z
SUMMARY:[männliche E-Jugend Runde] CVJM Hülben  - CVJM Kusterdingen e.V. 
URL:https://www.eichenkreuzliga.de/handball/game/id/11445
DTSTART:20210124T162500
DTEND:20210124T172500
LOCATION:Sporthalle\, 72138 Kirchentellinsfurt
END:VEVENT
BEGIN:VEVENT
UID:1ffa5fedd844bbef0489e0d490795dfc
DTSTAMP:20260422T082437Z
SUMMARY:[männliche E-Jugend Runde] CVJM Kirchentellinsfurt  - CVJM Kusterd
 ingen e.V. 
URL:https://www.eichenkreuzliga.de/handball/game/id/11446
DTSTART:20210124T134000
DTEND:20210124T144000
LOCATION:Sporthalle\, 72138 Kirchentellinsfurt
END:VEVENT
BEGIN:VEVENT
UID:6ded96510d23769a6b2207e785ae91c6
DTSTAMP:20260422T082437Z
SUMMARY:[männliche E-Jugend Runde] CVJM Hülben  - CVJM Möglingen 
URL:https://www.eichenkreuzliga.de/handball/game/id/11447
DTSTART:20210124T143000
DTEND:20210124T153000
LOCATION:Sporthalle\, 72138 Kirchentellinsfurt
END:VEVENT
BEGIN:VEVENT
UID:ca9eb37059fddbd40a90f11950b5f9ea
DTSTAMP:20260422T082437Z
SUMMARY:[männliche E-Jugend Runde] CVJM Kirchentellinsfurt  - CVJM Hülben
  
URL:https://www.eichenkreuzliga.de/handball/game/id/11448
DTSTART:20210124T171500
DTEND:20210124T181500
LOCATION:Sporthalle\, 72138 Kirchentellinsfurt
END:VEVENT
BEGIN:VEVENT
UID:b4bf58e63bf371eeedcf0a2e38d75041
DTSTAMP:20260422T082437Z
SUMMARY:[männliche E-Jugend Runde] CVJM Kirchentellinsfurt  - CVJM Möglin
 gen 
URL:https://www.eichenkreuzliga.de/handball/game/id/11449
DTSTART:20210124T153500
DTEND:20210124T163500
LOCATION:Sporthalle\, 72138 Kirchentellinsfurt
END:VEVENT
BEGIN:VEVENT
UID:117904cadd0f3e9615d60a2b1b8fe84e
DTSTAMP:20260422T082437Z
SUMMARY:[Männer Lk3] CVJM Kirchentellinsfurt 1b - CVJM Wildberg 
URL:https://www.eichenkreuzliga.de/handball/game/id/12612
DTSTART:20210124T183000
DTEND:20210124T193000
LOCATION:Sporthalle\, 72138 Kirchentellinsfurt
END:VEVENT
BEGIN:VEVENT
UID:b11d4675fc7e6f0d7c9779e6152a4c9d
DTSTAMP:20260422T082437Z
SUMMARY:[ ]   -  
URL:https://www.eichenkreuzliga.de/handball/game/id/13072
DTSTART:20210124T151500
DTEND:20210124T161500
LOCATION:Sporthalle\, 72138 Kirchentellinsfurt
END:VEVENT
END:VCALENDAR
