BEGIN:VCALENDAR
PRODID:-//eluceo/ical//2.0/EN
VERSION:2.0
CALSCALE:GREGORIAN
BEGIN:VEVENT
UID:928b6b7bbf2cd495e64ff4fb638877c2
DTSTAMP:20260422T140245Z
SUMMARY:[Männer Landesliga] EK Höfingen  - EK Köngen 
URL:https://www.eichenkreuzliga.de/handball/game/id/12546
DTSTART:20210130T180000
DTEND:20210130T190000
LOCATION:Strohgäuhalle\, 71229 Höfingen
END:VEVENT
BEGIN:VEVENT
UID:25609e920c028f58b1f93c3278b389d0
DTSTAMP:20260422T140245Z
SUMMARY:[männliche A-Jugend Runde] EK Höfingen  - EK Bernhausen 
URL:https://www.eichenkreuzliga.de/handball/game/id/12984
DTSTART:20210130T160000
DTEND:20210130T170000
LOCATION:Strohgäuhalle\, 71229 Höfingen
END:VEVENT
END:VCALENDAR
