BEGIN:VCALENDAR
PRODID:-//eluceo/ical//2.0/EN
VERSION:2.0
CALSCALE:GREGORIAN
BEGIN:VEVENT
UID:3e6a88cf9ab07571ca8f86264155b6fe
DTSTAMP:20260422T122654Z
SUMMARY:[männliche C-Jugend Runde] CVJM Enzweihingen  - EK Köngen 
URL:https://www.eichenkreuzliga.de/handball/game/id/12855
DTSTART:20210130T140000
DTEND:20210130T150000
LOCATION:Schulsporthalle\, 71665 Enzweihingen
END:VEVENT
BEGIN:VEVENT
UID:34ba968bfadd5bcfbab010b3d64da11b
DTSTAMP:20260422T122654Z
SUMMARY:[männliche B-Jugend Runde] CVJM Enzweihingen  - EK Köngen 
URL:https://www.eichenkreuzliga.de/handball/game/id/12897
DTSTART:20210130T160000
DTEND:20210130T170000
LOCATION:Schulsporthalle\, 71665 Enzweihingen
END:VEVENT
BEGIN:VEVENT
UID:f9018dc5c2e254307927fb412c663b42
DTSTAMP:20260422T122654Z
SUMMARY:[Männer LK4] CVJM Enzweihingen 1b - CVJM Fellbach 
URL:https://www.eichenkreuzliga.de/handball/game/id/13029
DTSTART:20210130T180000
DTEND:20210130T190000
LOCATION:Schulsporthalle\, 71665 Enzweihingen
END:VEVENT
END:VCALENDAR
