BEGIN:VCALENDAR
PRODID:-//eluceo/ical//2.0/EN
VERSION:2.0
CALSCALE:GREGORIAN
BEGIN:VEVENT
UID:a42aea7201ec2ffeef599b04a0c91f98
DTSTAMP:20260422T140240Z
SUMMARY:[männliche C-Jugend Runde] CVJM Untertürkheim  - CVJM Enzweihinge
 n 
URL:https://www.eichenkreuzliga.de/handball/game/id/12831
DTSTART:20210206T140000
DTEND:20210206T150000
LOCATION:Lindenschul-Sporthalle Untertürkheim\, 70327 Untertürkheim
END:VEVENT
END:VCALENDAR
