BEGIN:VCALENDAR
PRODID:-//eluceo/ical//2.0/EN
VERSION:2.0
CALSCALE:GREGORIAN
BEGIN:VEVENT
UID:a2070a1c882225dfcd8030d85436293f
DTSTAMP:20260422T140246Z
SUMMARY:[männliche D-Jugend Runde] EJW Münchingen  - CVJM  Walddorfhäsla
 ch 
URL:https://www.eichenkreuzliga.de/handball/game/id/11606
DTSTART:20210228T130000
DTEND:20210228T140000
LOCATION:Sporthalle Münchingen\, 70825 Korntal-Münchingen
END:VEVENT
BEGIN:VEVENT
UID:745f02eca058f21eb6b01d0679c6652b
DTSTAMP:20260422T140246Z
SUMMARY:[männliche D-Jugend Runde] EJW Münchingen  - CVJM Fellbach 
URL:https://www.eichenkreuzliga.de/handball/game/id/11607
DTSTART:20210228T161000
DTEND:20210228T171000
LOCATION:Sporthalle Münchingen\, 70825 Korntal-Münchingen
END:VEVENT
BEGIN:VEVENT
UID:b34bc997d1df37cc4f190c50f7505d3f
DTSTAMP:20260422T140246Z
SUMMARY:[männliche D-Jugend Runde] CVJM Plochingen  - CVJM  Walddorfhäsla
 ch 
URL:https://www.eichenkreuzliga.de/handball/game/id/11608
DTSTART:20210228T140000
DTEND:20210228T150000
LOCATION:Sporthalle Münchingen\, 70825 Korntal-Münchingen
END:VEVENT
BEGIN:VEVENT
UID:8fd25eb895a4d531bea2b2b4b133e088
DTSTAMP:20260422T140246Z
SUMMARY:[männliche D-Jugend Runde] CVJM Plochingen  - CVJM Fellbach 
URL:https://www.eichenkreuzliga.de/handball/game/id/11614
DTSTART:20210228T151000
DTEND:20210228T161000
LOCATION:Sporthalle Münchingen\, 70825 Korntal-Münchingen
END:VEVENT
BEGIN:VEVENT
UID:6287734e7b8db381c288b8bcdbc1dc41
DTSTAMP:20260422T140246Z
SUMMARY:[weibliche C-Jugend Runde] EJW Münchingen  - CVJM  Walddorfhäslac
 h 
URL:https://www.eichenkreuzliga.de/handball/game/id/12398
DTSTART:20210228T172000
DTEND:20210228T182000
LOCATION:Sporthalle Münchingen\, 70825 Korntal-Münchingen
END:VEVENT
BEGIN:VEVENT
UID:9662623767306843b4854356d3c075c0
DTSTAMP:20260422T140246Z
SUMMARY:[ ]   -  
URL:https://www.eichenkreuzliga.de/handball/game/id/13077
DTSTART:20210228T145000
DTEND:20210228T155000
LOCATION:Sporthalle Münchingen\, 70825 Korntal-Münchingen
END:VEVENT
END:VCALENDAR
