BEGIN:VCALENDAR
PRODID:-//eluceo/ical//2.0/EN
VERSION:2.0
CALSCALE:GREGORIAN
BEGIN:VEVENT
UID:506000b05f5eab833365edf8f366495b
DTSTAMP:20260422T140336Z
SUMMARY:[Frauen Landesliga] EK Bernhausen  - HSG Schönbuch 
URL:https://www.eichenkreuzliga.de/handball/game/id/11639
DTSTART:20210306T153000
DTEND:20210306T163000
LOCATION:Elisabeth-Selbert-Gymnasium Halle\, 70794 Bernhausen
END:VEVENT
BEGIN:VEVENT
UID:e165148e35e64cb2a1bd8795696e4ff4
DTSTAMP:20260422T140336Z
SUMMARY:[männliche C-Jugend Runde] EK Bernhausen  - EJW Münchingen 
URL:https://www.eichenkreuzliga.de/handball/game/id/12839
DTSTART:20210306T110000
DTEND:20210306T120000
LOCATION:Elisabeth-Selbert-Gymnasium Halle\, 70794 Bernhausen
END:VEVENT
BEGIN:VEVENT
UID:73ecedcb169c60a9cdfc1868dc457ce0
DTSTAMP:20260422T140336Z
SUMMARY:[männliche B-Jugend Runde] EK Bernhausen  - CVJM  Walddorfhäslach
  
URL:https://www.eichenkreuzliga.de/handball/game/id/12914
DTSTART:20210306T130000
DTEND:20210306T140000
LOCATION:Elisabeth-Selbert-Gymnasium Halle\, 70794 Bernhausen
END:VEVENT
BEGIN:VEVENT
UID:269aa38d888264c5269e73a265054304
DTSTAMP:20260422T140336Z
SUMMARY:[ ]   -  
URL:https://www.eichenkreuzliga.de/handball/game/id/13009
DTSTART:20210306T173000
DTEND:20210306T183000
LOCATION:Elisabeth-Selbert-Gymnasium Halle\, 70794 Bernhausen
END:VEVENT
BEGIN:VEVENT
UID:a546159dfb36ec4d26ea0f6ba2d05f8a
DTSTAMP:20260422T140336Z
SUMMARY:[ ]   -  
URL:https://www.eichenkreuzliga.de/handball/game/id/13010
DTSTART:20210306T200000
DTEND:20210306T210000
LOCATION:Elisabeth-Selbert-Gymnasium Halle\, 70794 Bernhausen
END:VEVENT
END:VCALENDAR
