BEGIN:VCALENDAR
PRODID:-//eluceo/ical//2.0/EN
VERSION:2.0
CALSCALE:GREGORIAN
BEGIN:VEVENT
UID:796a1b3e1e9fc26b467fd4392864575b
DTSTAMP:20260422T140240Z
SUMMARY:[weibliche C-Jugend Runde] CVJM Hülben  - EK Bernhausen 
URL:https://www.eichenkreuzliga.de/handball/game/id/12395
DTSTART:20210306T123000
DTEND:20210306T133000
LOCATION:Falkensteinhalle\, 72582 Grabenstetten
END:VEVENT
BEGIN:VEVENT
UID:f8349d12a90daa3feeda0852c492b402
DTSTAMP:20260422T140240Z
SUMMARY:[Männer LK2] CVJM Hülben  - CVJM SG Mössingen/Belsen 1b
URL:https://www.eichenkreuzliga.de/handball/game/id/12573
DTSTART:20210306T180000
DTEND:20210306T190000
LOCATION:Falkensteinhalle\, 72582 Grabenstetten
END:VEVENT
BEGIN:VEVENT
UID:0989ae57eda13622802ee04bd8577020
DTSTAMP:20260422T140240Z
SUMMARY:[weibliche A-Jugend Runde] CVJM Hülben  - CVJM SG Mössingen/Belse
 n 
URL:https://www.eichenkreuzliga.de/handball/game/id/12713
DTSTART:20210306T160000
DTEND:20210306T170000
LOCATION:Falkensteinhalle\, 72582 Grabenstetten
END:VEVENT
BEGIN:VEVENT
UID:b29d5698f21a7c2e05819b1f715f91af
DTSTAMP:20260422T140240Z
SUMMARY:[weibliche B-Jugend Runde] CVJM Hülben  - CVJM SG Mössingen/Belse
 n 
URL:https://www.eichenkreuzliga.de/handball/game/id/12715
DTSTART:20210306T141500
DTEND:20210306T151500
LOCATION:Falkensteinhalle\, 72582 Grabenstetten
END:VEVENT
END:VCALENDAR
