BEGIN:VCALENDAR
PRODID:-//eluceo/ical//2.0/EN
VERSION:2.0
CALSCALE:GREGORIAN
BEGIN:VEVENT
UID:3c898ce236e7875e250b731cf22064e5
DTSTAMP:20260422T140245Z
SUMMARY:[weibliche C-Jugend Runde] CVJM  Walddorfhäslach  - CVJM Kirchente
 llinsfurt 
URL:https://www.eichenkreuzliga.de/handball/game/id/12367
DTSTART:20210307T123000
DTEND:20210307T133000
LOCATION:Ballspielhalle\, 72141 Walddorfhäslach
END:VEVENT
BEGIN:VEVENT
UID:1b6031daf860902ced77bd03969aa509
DTSTAMP:20260422T140245Z
SUMMARY:[Männer Landesliga] CVJM  Walddorfhäslach  - CVJM Möglingen 
URL:https://www.eichenkreuzliga.de/handball/game/id/12500
DTSTART:20210307T180000
DTEND:20210307T190000
LOCATION:Ballspielhalle\, 72141 Walddorfhäslach
END:VEVENT
BEGIN:VEVENT
UID:4df901e512430eb753d3d376ae59b5b0
DTSTAMP:20260422T140245Z
SUMMARY:[Männer LK2] CVJM  Walddorfhäslach 2 - CVJM Kirchentellinsfurt 
URL:https://www.eichenkreuzliga.de/handball/game/id/12559
DTSTART:20210307T200000
DTEND:20210307T210000
LOCATION:Ballspielhalle\, 72141 Walddorfhäslach
END:VEVENT
BEGIN:VEVENT
UID:66f4342c29270f926adabe1bd4a1fae5
DTSTAMP:20260422T140245Z
SUMMARY:[männliche C-Jugend Runde] CVJM  Walddorfhäslach  - EK Höfingen 
URL:https://www.eichenkreuzliga.de/handball/game/id/12860
DTSTART:20210307T141500
DTEND:20210307T151500
LOCATION:Ballspielhalle\, 72141 Walddorfhäslach
END:VEVENT
BEGIN:VEVENT
UID:92fafb4de1afd9901d53ac9323f3a407
DTSTAMP:20260422T140245Z
SUMMARY:[männliche A-Jugend Runde] CVJM  Walddorfhäslach  - CVJM Fellbach
  
URL:https://www.eichenkreuzliga.de/handball/game/id/12993
DTSTART:20210307T160000
DTEND:20210307T170000
LOCATION:Ballspielhalle\, 72141 Walddorfhäslach
END:VEVENT
END:VCALENDAR
