BEGIN:VCALENDAR
PRODID:-//eluceo/ical//2.0/EN
VERSION:2.0
CALSCALE:GREGORIAN
BEGIN:VEVENT
UID:61cc08bf4767168793d8a2d3455563fe
DTSTAMP:20260422T140220Z
SUMMARY:[weibliche E-Jugend Runde] CVJM SG Mössingen/Belsen  - EK Bernhaus
 en 
URL:https://www.eichenkreuzliga.de/handball/game/id/11367
DTSTART:20210314T120000
DTEND:20210314T130000
LOCATION:Jahnhalle 2\, 72116 Mössingen
END:VEVENT
BEGIN:VEVENT
UID:6f963753f179b11d97cafe330ad2440f
DTSTAMP:20260422T140220Z
SUMMARY:[Frauen Landesliga] CVJM SG Mössingen/Belsen  - CVJM  Walddorfhäs
 lach 
URL:https://www.eichenkreuzliga.de/handball/game/id/11649
DTSTART:20210314T170000
DTEND:20210314T180000
LOCATION:Jahnhalle 2\, 72116 Mössingen
END:VEVENT
BEGIN:VEVENT
UID:f4721f8749fa367597b47bccb3caa16b
DTSTAMP:20260422T140220Z
SUMMARY:[weibliche A-Jugend Runde] CVJM SG Mössingen/Belsen  - CVJM  Waldd
 orfhäslach 
URL:https://www.eichenkreuzliga.de/handball/game/id/12732
DTSTART:20210314T130000
DTEND:20210314T140000
LOCATION:Jahnhalle 2\, 72116 Mössingen
END:VEVENT
BEGIN:VEVENT
UID:395dfd524d13f55466281e35d9e148f9
DTSTAMP:20260422T140220Z
SUMMARY:[weibliche B-Jugend Runde] CVJM SG Mössingen/Belsen  - CVJM Wildbe
 rg a. K.
URL:https://www.eichenkreuzliga.de/handball/game/id/12779
DTSTART:20210314T150000
DTEND:20210314T160000
LOCATION:Jahnhalle 2\, 72116 Mössingen
END:VEVENT
BEGIN:VEVENT
UID:50cf8ec10d5b5b1e9553aa7b0ed4d4f9
DTSTAMP:20260422T140220Z
SUMMARY:[Männer LK4] CVJM SG Mössingen/Belsen 1c - CVJM Möglingen 1b
URL:https://www.eichenkreuzliga.de/handball/game/id/13024
DTSTART:20210314T190000
DTEND:20210314T200000
LOCATION:Jahnhalle 2\, 72116 Mössingen
END:VEVENT
END:VCALENDAR
