BEGIN:VCALENDAR
PRODID:-//eluceo/ical//2.0/EN
VERSION:2.0
CALSCALE:GREGORIAN
BEGIN:VEVENT
UID:0c2a19b930c2010075f28108916ba5db
DTSTAMP:20260422T140240Z
SUMMARY:[männliche D-Jugend Runde] EJW Münchingen  - CVJM HB Dußlingen-G
 omaringen 1
URL:https://www.eichenkreuzliga.de/handball/game/id/11591
DTSTART:20210314T130000
DTEND:20210314T140000
LOCATION:Sporthalle Münchingen\, 70825 Korntal-Münchingen
END:VEVENT
BEGIN:VEVENT
UID:73b36445213577e959642f54860ef46d
DTSTAMP:20260422T140240Z
SUMMARY:[männliche D-Jugend Runde] EJW Münchingen  - CVJM HB Dußlingen-G
 omaringen 2 a.K.
URL:https://www.eichenkreuzliga.de/handball/game/id/11592
DTSTART:20210314T161000
DTEND:20210314T171000
LOCATION:Sporthalle Münchingen\, 70825 Korntal-Münchingen
END:VEVENT
BEGIN:VEVENT
UID:f336a6dcbd19e5f77d202e2cc4efa7b5
DTSTAMP:20260422T140240Z
SUMMARY:[männliche D-Jugend Runde] CVJM Plochingen  - CVJM HB Dußlingen-G
 omaringen 1
URL:https://www.eichenkreuzliga.de/handball/game/id/11593
DTSTART:20210314T140000
DTEND:20210314T150000
LOCATION:Sporthalle Münchingen\, 70825 Korntal-Münchingen
END:VEVENT
BEGIN:VEVENT
UID:28a2e354a23533a2e7992ac151aa531c
DTSTAMP:20260422T140240Z
SUMMARY:[männliche D-Jugend Runde] CVJM Plochingen  - CVJM HB Dußlingen-G
 omaringen 2 a.K.
URL:https://www.eichenkreuzliga.de/handball/game/id/11594
DTSTART:20210314T151000
DTEND:20210314T161000
LOCATION:Sporthalle Münchingen\, 70825 Korntal-Münchingen
END:VEVENT
BEGIN:VEVENT
UID:fc8e03800bd9d5a5d484da5a03b77837
DTSTAMP:20260422T140240Z
SUMMARY:[männliche B-Jugend Runde] EJW Münchingen  - CVJM HB Dußlingen-G
 omaringen 
URL:https://www.eichenkreuzliga.de/handball/game/id/12912
DTSTART:20210314T172000
DTEND:20210314T182000
LOCATION:Sporthalle Münchingen\, 70825 Korntal-Münchingen
END:VEVENT
BEGIN:VEVENT
UID:25fbb7b2b61e62a9ba98a3580d4b4b70
DTSTAMP:20260422T140240Z
SUMMARY:[ ]   -  
URL:https://www.eichenkreuzliga.de/handball/game/id/13080
DTSTART:20210314T145000
DTEND:20210314T155000
LOCATION:Sporthalle Münchingen\, 70825 Korntal-Münchingen
END:VEVENT
END:VCALENDAR
