BEGIN:VCALENDAR
PRODID:-//eluceo/ical//2.0/EN
VERSION:2.0
CALSCALE:GREGORIAN
BEGIN:VEVENT
UID:47b3465a02d3b891315c70dd660a93af
DTSTAMP:20260422T140337Z
SUMMARY:[Männer Landesliga] CVJM Möglingen  - CVJM Flacht 
URL:https://www.eichenkreuzliga.de/handball/game/id/13015
DTSTART:20210320T180000
DTEND:20210320T190000
LOCATION:Stadionhalle\, 71696 Möglingen
END:VEVENT
BEGIN:VEVENT
UID:2f13d00eff9a415518f4946745977628
DTSTAMP:20260422T140337Z
SUMMARY:[Männer LK4] CVJM Möglingen 1b - CVJM Kusterdingen e.V. 
URL:https://www.eichenkreuzliga.de/handball/game/id/13047
DTSTART:20210320T160000
DTEND:20210320T170000
LOCATION:Stadionhalle\, 71696 Möglingen
END:VEVENT
BEGIN:VEVENT
UID:84ccebc3772e56cc9788069cd0d4b8fe
DTSTAMP:20260422T140337Z
SUMMARY:[ ]   -  
URL:https://www.eichenkreuzliga.de/handball/game/id/13132
DTSTART:20210320T200000
DTEND:20210320T210000
LOCATION:Stadionhalle\, 71696 Möglingen
END:VEVENT
END:VCALENDAR
