BEGIN:VCALENDAR
PRODID:-//eluceo/ical//2.0/EN
VERSION:2.0
CALSCALE:GREGORIAN
BEGIN:VEVENT
UID:ced1f1d1058a1bd28f9b793ba65a446e
DTSTAMP:20260422T140221Z
SUMMARY:[Frauen Landesliga] EK Bernhausen  - CVJM SG Mössingen/Belsen 
URL:https://www.eichenkreuzliga.de/handball/game/id/11645
DTSTART:20210320T153000
DTEND:20210320T163000
LOCATION:Elisabeth-Selbert-Gymnasium Halle\, 70794 Bernhausen
END:VEVENT
BEGIN:VEVENT
UID:ff143e08c659b85905664d70875897ed
DTSTAMP:20260422T140221Z
SUMMARY:[weibliche C-Jugend Runde] EK Bernhausen  - CVJM Kirchentellinsfurt
  
URL:https://www.eichenkreuzliga.de/handball/game/id/12397
DTSTART:20210320T124500
DTEND:20210320T134500
LOCATION:Elisabeth-Selbert-Gymnasium Halle\, 70794 Bernhausen
END:VEVENT
BEGIN:VEVENT
UID:cb71a5def884aed41e49b43c79760750
DTSTAMP:20260422T140221Z
SUMMARY:[Männer LK2] EK Bernhausen  - CVJM  Walddorfhäslach 2
URL:https://www.eichenkreuzliga.de/handball/game/id/12597
DTSTART:20210320T194500
DTEND:20210320T204500
LOCATION:Elisabeth-Selbert-Gymnasium Halle\, 70794 Bernhausen
END:VEVENT
BEGIN:VEVENT
UID:8857d1aa93a9c72a240ef3fed37ea4b9
DTSTAMP:20260422T140221Z
SUMMARY:[weibliche A-Jugend Runde] EK Bernhausen  - CVJM HB Dußlingen-Goma
 ringen 
URL:https://www.eichenkreuzliga.de/handball/game/id/12744
DTSTART:20210320T110000
DTEND:20210320T120000
LOCATION:Elisabeth-Selbert-Gymnasium Halle\, 70794 Bernhausen
END:VEVENT
BEGIN:VEVENT
UID:b857bb7944d690cbfaa7c976c85da99e
DTSTAMP:20260422T140221Z
SUMMARY:[ ]   -  
URL:https://www.eichenkreuzliga.de/handball/game/id/13011
DTSTART:20210320T173000
DTEND:20210320T183000
LOCATION:Elisabeth-Selbert-Gymnasium Halle\, 70794 Bernhausen
END:VEVENT
END:VCALENDAR
