BEGIN:VCALENDAR
PRODID:-//eluceo/ical//2.0/EN
VERSION:2.0
CALSCALE:GREGORIAN
BEGIN:VEVENT
UID:08b5958a9d64f8e0001fb4a04825e470
DTSTAMP:20260422T140220Z
SUMMARY:[weibliche D-Jugend Finalspiele] EK Testverein  - EK Testverein 
URL:https://www.eichenkreuzliga.de/handball/game/id/11342
DTSTART:20210320T110000
DTEND:20210320T120000
LOCATION:Ballspielhalle\, 72141 Walddorfhäslach
END:VEVENT
BEGIN:VEVENT
UID:c1f0a946ab8b18be88e8aa7499dd88c7
DTSTAMP:20260422T140220Z
SUMMARY:[weibliche D-Jugend Finalspiele] EK Testverein  - EK Testverein 
URL:https://www.eichenkreuzliga.de/handball/game/id/11343
DTSTART:20210320T123000
DTEND:20210320T133000
LOCATION:Ballspielhalle\, 72141 Walddorfhäslach
END:VEVENT
BEGIN:VEVENT
UID:7ed064d1446562b9a46a6bab349aee4c
DTSTAMP:20260422T140220Z
SUMMARY:[weibliche D-Jugend Finalspiele] EK Testverein  - EK Testverein 
URL:https://www.eichenkreuzliga.de/handball/game/id/11344
DTSTART:20210320T132000
DTEND:20210320T142000
LOCATION:Ballspielhalle\, 72141 Walddorfhäslach
END:VEVENT
BEGIN:VEVENT
UID:e56b0f4d42c4eedfef30b3e5bf580d51
DTSTAMP:20260422T140220Z
SUMMARY:[ ]   -  
URL:https://www.eichenkreuzliga.de/handball/game/id/11345
DTSTART:20210320T140000
DTEND:20210320T150000
LOCATION:Ballspielhalle\, 72141 Walddorfhäslach
END:VEVENT
BEGIN:VEVENT
UID:5d738d62ef7a0889987b601376eac571
DTSTAMP:20260422T140220Z
SUMMARY:[weibliche D-Jugend Finalspiele] EK Testverein  - EK Testverein 
URL:https://www.eichenkreuzliga.de/handball/game/id/11346
DTSTART:20210320T143000
DTEND:20210320T153000
LOCATION:Ballspielhalle\, 72141 Walddorfhäslach
END:VEVENT
BEGIN:VEVENT
UID:862219c36cf741262e8cc979899b032f
DTSTAMP:20260422T140220Z
SUMMARY:[weibliche D-Jugend Finalspiele] EK Testverein  - EK Testverein 
URL:https://www.eichenkreuzliga.de/handball/game/id/11347
DTSTART:20210320T152000
DTEND:20210320T162000
LOCATION:Ballspielhalle\, 72141 Walddorfhäslach
END:VEVENT
BEGIN:VEVENT
UID:01869b4f41705c1616afc9c377325aad
DTSTAMP:20260422T140220Z
SUMMARY:[ ]   -  
URL:https://www.eichenkreuzliga.de/handball/game/id/11349
DTSTART:20210320T160000
DTEND:20210320T170000
LOCATION:Ballspielhalle\, 72141 Walddorfhäslach
END:VEVENT
BEGIN:VEVENT
UID:5c81de569cd6e0f787df1a9226cdbc47
DTSTAMP:20260422T140220Z
SUMMARY:[männliche A-Jugend Runde] CVJM  Walddorfhäslach  - EK Höfingen 
URL:https://www.eichenkreuzliga.de/handball/game/id/12980
DTSTART:20210320T170000
DTEND:20210320T180000
LOCATION:Ballspielhalle\, 72141 Walddorfhäslach
END:VEVENT
BEGIN:VEVENT
UID:9cc6466e646fc81bd796f1b00a4019f6
DTSTAMP:20260422T140220Z
SUMMARY:[Männer Landesliga] CVJM  Walddorfhäslach  - CVJM SG Mössingen/B
 elsen 
URL:https://www.eichenkreuzliga.de/handball/game/id/13116
DTSTART:20210320T190000
DTEND:20210320T200000
LOCATION:Ballspielhalle\, 72141 Walddorfhäslach
END:VEVENT
END:VCALENDAR
