BEGIN:VCALENDAR
PRODID:-//eluceo/ical//2.0/EN
VERSION:2.0
CALSCALE:GREGORIAN
BEGIN:VEVENT
UID:0af721ff73d4907ece0d8c276732baa2
DTSTAMP:20260422T140221Z
SUMMARY:[Männer Landesliga] EK Köngen  - CVJM Möglingen 
URL:https://www.eichenkreuzliga.de/handball/game/id/12507
DTSTART:20210327T190000
DTEND:20210327T200000
LOCATION:Burgschulhalle\, 73257 Köngen
END:VEVENT
BEGIN:VEVENT
UID:86d8b581a9226230e3f0807d1817f162
DTSTAMP:20260422T140221Z
SUMMARY:[männliche C-Jugend Runde] EK Köngen  - EK Bernhausen 
URL:https://www.eichenkreuzliga.de/handball/game/id/12841
DTSTART:20210327T130000
DTEND:20210327T140000
LOCATION:Burgschulhalle\, 73257 Köngen
END:VEVENT
BEGIN:VEVENT
UID:412e64e2655f1c4a3d2b219a43e6864f
DTSTAMP:20260422T140221Z
SUMMARY:[männliche B-Jugend Runde] EK Köngen  - CVJM Möglingen 
URL:https://www.eichenkreuzliga.de/handball/game/id/12925
DTSTART:20210327T150000
DTEND:20210327T160000
LOCATION:Burgschulhalle\, 73257 Köngen
END:VEVENT
BEGIN:VEVENT
UID:cc53105b34703386e03a6304541f9dcd
DTSTAMP:20260422T140221Z
SUMMARY:[Männer Lk3] EK Köngen 1c - CVJM Wildberg 
URL:https://www.eichenkreuzliga.de/handball/game/id/13170
DTSTART:20210327T170000
DTEND:20210327T180000
LOCATION:Burgschulhalle\, 73257 Köngen
END:VEVENT
END:VCALENDAR
