BEGIN:VCALENDAR
PRODID:-//eluceo/ical//2.0/EN
VERSION:2.0
CALSCALE:GREGORIAN
BEGIN:VEVENT
UID:b23c633bc7d2b4f2595859bc493cdb4c
DTSTAMP:20260422T111734Z
SUMMARY:[männliche E-Jugend Runde] CVJM Hülben  - CVJM Plochingen a.K.
URL:https://www.eichenkreuzliga.de/handball/game/id/11467
DTSTART:20210327T140000
DTEND:20210327T150000
LOCATION:Jahnhalle 2\, 72116 Mössingen
END:VEVENT
BEGIN:VEVENT
UID:3242d562a986755b8df3ab71c35e22a5
DTSTAMP:20260422T111734Z
SUMMARY:[männliche E-Jugend Runde] CVJM SG Mössingen/Belsen  - CVJM Kirch
 entellinsfurt 
URL:https://www.eichenkreuzliga.de/handball/game/id/11468
DTSTART:20210327T120000
DTEND:20210327T130000
LOCATION:Jahnhalle 2\, 72116 Mössingen
END:VEVENT
BEGIN:VEVENT
UID:ea3858fe150f161bed6c0bae16cd1a3b
DTSTAMP:20260422T111734Z
SUMMARY:[männliche E-Jugend Runde] CVJM Kirchentellinsfurt  - CVJM Plochin
 gen a.K.
URL:https://www.eichenkreuzliga.de/handball/game/id/11469
DTSTART:20210327T130000
DTEND:20210327T140000
LOCATION:Jahnhalle 2\, 72116 Mössingen
END:VEVENT
BEGIN:VEVENT
UID:7ff521ea26bd65e1a4e477e0723d1118
DTSTAMP:20260422T111734Z
SUMMARY:[männliche E-Jugend Runde] CVJM SG Mössingen/Belsen  - CVJM Hülb
 en 
URL:https://www.eichenkreuzliga.de/handball/game/id/11470
DTSTART:20210327T150000
DTEND:20210327T160000
LOCATION:Jahnhalle 2\, 72116 Mössingen
END:VEVENT
BEGIN:VEVENT
UID:b85abcfdb1338feda2e4a912bb91971a
DTSTAMP:20260422T111734Z
SUMMARY:[Männer Landesliga] CVJM SG Mössingen/Belsen  - CVJM Hagelloch - 
 Kusterdingen 1
URL:https://www.eichenkreuzliga.de/handball/game/id/12531
DTSTART:20210327T180000
DTEND:20210327T190000
LOCATION:Jahnhalle 2\, 72116 Mössingen
END:VEVENT
BEGIN:VEVENT
UID:83f175c433df7618b1a0ae8110eadcb2
DTSTAMP:20260422T111734Z
SUMMARY:[ ]   -  
URL:https://www.eichenkreuzliga.de/handball/game/id/13161
DTSTART:20210327T134500
DTEND:20210327T144500
LOCATION:Jahnhalle 2\, 72116 Mössingen
END:VEVENT
END:VCALENDAR
