BEGIN:VCALENDAR
PRODID:-//eluceo/ical//2.0/EN
VERSION:2.0
CALSCALE:GREGORIAN
BEGIN:VEVENT
UID:e0b637dd11aac1c8f04557f6e6de9858
DTSTAMP:20260422T122709Z
SUMMARY:[männliche C-Jugend Runde] EJW Münchingen  - CVJM Kirchentellinsf
 urt 
URL:https://www.eichenkreuzliga.de/handball/game/id/12868
DTSTART:20210328T151500
DTEND:20210328T161500
LOCATION:Sporthalle Münchingen\, 70825 Korntal-Münchingen
END:VEVENT
BEGIN:VEVENT
UID:050027482c0da9f3819dcde0f75bbf50
DTSTAMP:20260422T122709Z
SUMMARY:[weibliche C-Jugend Runde] EJW Münchingen  - CVJM HB Dußlingen-Go
 maringen 1
URL:https://www.eichenkreuzliga.de/handball/game/id/13079
DTSTART:20210328T133000
DTEND:20210328T143000
LOCATION:Sporthalle Münchingen\, 70825 Korntal-Münchingen
END:VEVENT
END:VCALENDAR
