BEGIN:VCALENDAR
PRODID:-//eluceo/ical//2.0/EN
VERSION:2.0
CALSCALE:GREGORIAN
BEGIN:VEVENT
UID:f2dc294fe412e5a2c0771f6191f82ab1
DTSTAMP:20260422T140220Z
SUMMARY:[männliche C-Jugend Runde] EJW Münchingen  - CVJM Hagelloch 
URL:https://www.eichenkreuzliga.de/handball/game/id/12852
DTSTART:20210418T170000
DTEND:20210418T180000
LOCATION:Sporthalle Münchingen\, 70825 Korntal-Münchingen
END:VEVENT
BEGIN:VEVENT
UID:d99d185bef5b11859997688eab0c00d9
DTSTAMP:20260422T140220Z
SUMMARY:[männliche E-Jugend Finalspiele] EK Testverein  - EK Testverein 
URL:https://www.eichenkreuzliga.de/handball/game/id/13166
DTSTART:20210418T130000
DTEND:20210418T140000
LOCATION:Sporthalle Münchingen\, 70825 Korntal-Münchingen
END:VEVENT
BEGIN:VEVENT
UID:c7ed7639d616bd2b9f326a220d4f84de
DTSTAMP:20260422T140220Z
SUMMARY:[männliche E-Jugend Finalspiele] EK Testverein  - EK Testverein 
URL:https://www.eichenkreuzliga.de/handball/game/id/13167
DTSTART:20210418T140000
DTEND:20210418T150000
LOCATION:Sporthalle Münchingen\, 70825 Korntal-Münchingen
END:VEVENT
BEGIN:VEVENT
UID:a3cbbd78bcefecd75b287b047f6cba67
DTSTAMP:20260422T140220Z
SUMMARY:[männliche E-Jugend Finalspiele] EK Testverein  - EK Testverein 
URL:https://www.eichenkreuzliga.de/handball/game/id/13168
DTSTART:20210418T150000
DTEND:20210418T160000
LOCATION:Sporthalle Münchingen\, 70825 Korntal-Münchingen
END:VEVENT
BEGIN:VEVENT
UID:cfbe829f1da3f39807dc66cca97d7dd0
DTSTAMP:20260422T140220Z
SUMMARY:[männliche E-Jugend Finalspiele] EK Testverein  - EK Testverein 
URL:https://www.eichenkreuzliga.de/handball/game/id/13169
DTSTART:20210418T160000
DTEND:20210418T170000
LOCATION:Sporthalle Münchingen\, 70825 Korntal-Münchingen
END:VEVENT
END:VCALENDAR
