BEGIN:VCALENDAR
PRODID:-//eluceo/ical//2.0/EN
VERSION:2.0
CALSCALE:GREGORIAN
BEGIN:VEVENT
UID:1a5f3c3a7d46ef27be8b50073d47ebaa
DTSTAMP:20260422T140245Z
SUMMARY:[ ]   -  
URL:https://www.eichenkreuzliga.de/handball/game/id/11678
DTSTART:20210424T154500
DTEND:20210424T164500
LOCATION:Elisabeth-Selbert-Gymnasium Halle\, 70794 Bernhausen
END:VEVENT
BEGIN:VEVENT
UID:02af891cf38b3d317d9c45455f901ce7
DTSTAMP:20260422T140245Z
SUMMARY:[weibliche C-Jugend Runde] EJW Münchingen  - CVJM Kirchentellinsfu
 rt 
URL:https://www.eichenkreuzliga.de/handball/game/id/11806
DTSTART:20210424T110000
DTEND:20210424T120000
LOCATION:Elisabeth-Selbert-Gymnasium Halle\, 70794 Bernhausen
END:VEVENT
BEGIN:VEVENT
UID:97c88bbaba23f8b4952e868505f9b2d0
DTSTAMP:20260422T140245Z
SUMMARY:[weibliche C-Jugend Runde] CVJM HB Dußlingen-Gomaringen 1 - CVJM H
 ülben 
URL:https://www.eichenkreuzliga.de/handball/game/id/11810
DTSTART:20210424T143000
DTEND:20210424T153000
LOCATION:Elisabeth-Selbert-Gymnasium Halle\, 70794 Bernhausen
END:VEVENT
BEGIN:VEVENT
UID:93aef53934b6e81e6fb7069de0128095
DTSTAMP:20260422T140245Z
SUMMARY:[weibliche C-Jugend Runde] EK Bernhausen  - CVJM  Walddorfhäslach 
URL:https://www.eichenkreuzliga.de/handball/game/id/12043
DTSTART:20210424T124500
DTEND:20210424T134500
LOCATION:Elisabeth-Selbert-Gymnasium Halle\, 70794 Bernhausen
END:VEVENT
BEGIN:VEVENT
UID:e5cb73942f86e5f49deaaba3b5747244
DTSTAMP:20260422T140245Z
SUMMARY:[männliche A-Jugend Runde] EK Bernhausen  - CVJM HB Dußlingen-Gom
 aringen 
URL:https://www.eichenkreuzliga.de/handball/game/id/12963
DTSTART:20210424T161500
DTEND:20210424T171500
LOCATION:Elisabeth-Selbert-Gymnasium Halle\, 70794 Bernhausen
END:VEVENT
BEGIN:VEVENT
UID:06fae399c403b491a6902359dc75dd1b
DTSTAMP:20260422T140245Z
SUMMARY:[ ]   -  
URL:https://www.eichenkreuzliga.de/handball/game/id/13012
DTSTART:20210424T200000
DTEND:20210424T210000
LOCATION:Elisabeth-Selbert-Gymnasium Halle\, 70794 Bernhausen
END:VEVENT
END:VCALENDAR
