BEGIN:VCALENDAR
PRODID:-//eluceo/ical//2.0/EN
VERSION:2.0
CALSCALE:GREGORIAN
BEGIN:VEVENT
UID:6a0504520ea6fcbc0ff68fc846680013
DTSTAMP:20260422T140336Z
SUMMARY:[Männer Landesliga] CVJM Möglingen  - EK Köngen 
URL:https://www.eichenkreuzliga.de/handball/game/id/13016
DTSTART:20210501T180000
DTEND:20210501T190000
LOCATION:Stadionhalle\, 71696 Möglingen
END:VEVENT
BEGIN:VEVENT
UID:ed3f3ef27990c6482cf918d3f7adcaeb
DTSTAMP:20260422T140336Z
SUMMARY:[ ]   -  
URL:https://www.eichenkreuzliga.de/handball/game/id/13135
DTSTART:20210501T200000
DTEND:20210501T210000
LOCATION:Stadionhalle\, 71696 Möglingen
END:VEVENT
END:VCALENDAR
