BEGIN:VCALENDAR
PRODID:-//eluceo/ical//2.0/EN
VERSION:2.0
CALSCALE:GREGORIAN
BEGIN:VEVENT
UID:349201b70532cc8a851cedfea9720339
DTSTAMP:20260422T164330Z
SUMMARY:[Männer Finalrunde LK3] EK Testverein  - EK Testverein 
URL:https://www.eichenkreuzliga.de/handball/game/id/13180
DTSTART:20210502T150000
DTEND:20210502T160000
LOCATION:Gymnasiumsporthalle\, 73207 Plochingen
END:VEVENT
BEGIN:VEVENT
UID:818d8d02e72fbef58ee4ef1def3831e3
DTSTAMP:20260422T164330Z
SUMMARY:[Männer Finalrunde LK3] EK Testverein  - EK Testverein 
URL:https://www.eichenkreuzliga.de/handball/game/id/13181
DTSTART:20210502T170000
DTEND:20210502T180000
LOCATION:Gymnasiumsporthalle\, 73207 Plochingen
END:VEVENT
END:VCALENDAR
