BEGIN:VCALENDAR
PRODID:-//eluceo/ical//2.0/EN
VERSION:2.0
CALSCALE:GREGORIAN
BEGIN:VEVENT
UID:dd7f4b5cd8b0e3f412193b0e394896b9
DTSTAMP:20260422T140220Z
SUMMARY:[Männer Landesliga] CVJM HB Dußlingen-Gomaringen  - CVJM Mögling
 en 
URL:https://www.eichenkreuzliga.de/handball/game/id/12536
DTSTART:20210131T183000
DTEND:20210131T193000
LOCATION:Hönisch Sporthalle\, 72144 Dusslingen
END:VEVENT
BEGIN:VEVENT
UID:f094ca10de70e4dc50e95f0e57869d94
DTSTAMP:20260422T140220Z
SUMMARY:[weibliche A-Jugend Runde] CVJM HB Dußlingen-Gomaringen  - CVJM M
 öglingen 
URL:https://www.eichenkreuzliga.de/handball/game/id/12737
DTSTART:20210131T130000
DTEND:20210131T140000
LOCATION:Hönisch Sporthalle\, 72144 Dusslingen
END:VEVENT
BEGIN:VEVENT
UID:88dbeff687312ea03e7cc9a8b10bfc4e
DTSTAMP:20260422T140220Z
SUMMARY:[weibliche B-Jugend Runde] CVJM HB Dußlingen-Gomaringen  - CVJM Ha
 gelloch 
URL:https://www.eichenkreuzliga.de/handball/game/id/12771
DTSTART:20210131T150000
DTEND:20210131T160000
LOCATION:Hönisch Sporthalle\, 72144 Dusslingen
END:VEVENT
BEGIN:VEVENT
UID:e94be681a269421ba2d563329662d323
DTSTAMP:20260422T140220Z
SUMMARY:[männliche B-Jugend Runde] CVJM HB Dußlingen-Gomaringen  - CVJM W
 ildberg 
URL:https://www.eichenkreuzliga.de/handball/game/id/12930
DTSTART:20210131T164500
DTEND:20210131T174500
LOCATION:Hönisch Sporthalle\, 72144 Dusslingen
END:VEVENT
END:VCALENDAR
