BEGIN:VCALENDAR
PRODID:-//eluceo/ical//2.0/EN
VERSION:2.0
CALSCALE:GREGORIAN
BEGIN:VEVENT
UID:74db35b72da6a5c3063a5da6e40d2167
DTSTAMP:20260422T140335Z
SUMMARY:[männliche B-Jugend Runde] CVJM Wildberg  - CVJM Hagelloch SG Hage
 lloch/Kusterdingen
URL:https://www.eichenkreuzliga.de/handball/game/id/12919
DTSTART:20210328T150000
DTEND:20210328T160000
LOCATION:Sporthalle Wildberg\, 72218 Wildberg
END:VEVENT
END:VCALENDAR
