BEGIN:VCALENDAR
PRODID:-//eluceo/ical//2.0/EN
VERSION:2.0
CALSCALE:GREGORIAN
BEGIN:VEVENT
UID:68f1db6808fdcf9c93ef043e4b28ddcc
DTSTAMP:20260422T140351Z
SUMMARY:[weibliche C-Jugend Runde] CVJM Hülben  - CVJM  Walddorfhäslach 
URL:https://www.eichenkreuzliga.de/handball/game/id/12386
DTSTART:20201213T130000
DTEND:20201213T140000
LOCATION:Falkensteinhalle\, 72582 Grabenstetten
END:VEVENT
BEGIN:VEVENT
UID:5ad5484710f409ff77248dfb18b79e42
DTSTAMP:20260422T140351Z
SUMMARY:[weibliche A-Jugend Runde] CVJM Hülben  - CVJM  Walddorfhäslach 
URL:https://www.eichenkreuzliga.de/handball/game/id/12712
DTSTART:20201213T150000
DTEND:20201213T160000
LOCATION:Falkensteinhalle\, 72582 Grabenstetten
END:VEVENT
END:VCALENDAR
