BEGIN:VCALENDAR
PRODID:-//eluceo/ical//2.0/EN
VERSION:2.0
CALSCALE:GREGORIAN
BEGIN:VEVENT
UID:8d306fe467739be722121c56057deb19
DTSTAMP:20260422T140220Z
SUMMARY:[Männer Landesliga] CVJM SG Mössingen/Belsen  - EK Höfingen 
URL:https://www.eichenkreuzliga.de/handball/game/id/13056
DTSTART:20210424T180000
DTEND:20210424T190000
LOCATION:Jahnhalle 2\, 72116 Mössingen
END:VEVENT
END:VCALENDAR
