BEGIN:VCALENDAR
PRODID:-//eluceo/ical//2.0/EN
VERSION:2.0
CALSCALE:GREGORIAN
BEGIN:VEVENT
UID:698f73f8b23642c7a156156ab8ea24a2
DTSTAMP:20260422T140246Z
SUMMARY:[Männer Landesliga] CVJM Flacht  - EK Höfingen 
URL:https://www.eichenkreuzliga.de/handball/game/id/13102
DTSTART:20201205T180000
DTEND:20201205T190000
LOCATION:Sporthalle Flacht\, 71287 Weissach
END:VEVENT
END:VCALENDAR
