BEGIN:VCALENDAR
PRODID:-//eluceo/ical//2.0/EN
VERSION:2.0
CALSCALE:GREGORIAN
BEGIN:VEVENT
UID:6ee1ed57dcde4283f51a97f52c61dbf6
DTSTAMP:20260422T140245Z
SUMMARY:[Männer Landesliga] CVJM  Walddorfhäslach  - CVJM HB Dußlingen-G
 omaringen 
URL:https://www.eichenkreuzliga.de/handball/game/id/13183
DTSTART:20201120T203000
DTEND:20201120T213000
LOCATION:Ballspielhalle\, 72141 Walddorfhäslach
END:VEVENT
END:VCALENDAR
