BEGIN:VCALENDAR
PRODID:-//eluceo/ical//2.0/EN
VERSION:2.0
CALSCALE:GREGORIAN
BEGIN:VEVENT
UID:21e267d5e7dc5f1fc25f0859ceb23c50
DTSTAMP:20260423T035805Z
SUMMARY:[Herren LK3] CVJM Renningen  - CVJM Heidenheim 
URL:https://www.eichenkreuzliga.de/fussball/game/id/14860
DTSTART:20221030T153000
DTEND:20221030T163000
LOCATION:\,  
END:VEVENT
BEGIN:VEVENT
UID:bea5ab3e83bda8dd6ff208cbc714fbf2
DTSTAMP:20260423T035805Z
SUMMARY:[Herren LK3] EK Dettingen/Teck  - EK Wolfschlugen 
URL:https://www.eichenkreuzliga.de/fussball/game/id/14861
DTSTART:20221127T163000
DTEND:20221127T173000
LOCATION:\,  
END:VEVENT
END:VCALENDAR
