BEGIN:VCALENDAR
PRODID:-//eluceo/ical//2.0/EN
VERSION:2.0
CALSCALE:GREGORIAN
BEGIN:VEVENT
UID:82cf86548ce3b4a4246abcd85d1a15a1
DTSTAMP:20260425T120912Z
SUMMARY:[Herren LK1] CVJM Dettingen/Erms  - CSK Weinstadt 
URL:https://www.eichenkreuzliga.de/fussball/game/id/14881
DTSTART:20221009T170000
DTEND:20221009T180000
LOCATION:\,  
END:VEVENT
BEGIN:VEVENT
UID:81b42b7417136f3d160e11e60b1a7fa8
DTSTAMP:20260425T120912Z
SUMMARY:[Herren LK1] EC Dagersheim  - CVJM Großbottwar 
URL:https://www.eichenkreuzliga.de/fussball/game/id/14882
DTSTART:20221009T180000
DTEND:20221009T190000
LOCATION:\,  
END:VEVENT
BEGIN:VEVENT
UID:a9414f2c30526d2207104b8a5480124d
DTSTAMP:20260425T120912Z
SUMMARY:[Herren LK1] SG Filder  - CSV Kirchheim 
URL:https://www.eichenkreuzliga.de/fussball/game/id/14883
DTSTART:20221009T150000
DTEND:20221009T160000
LOCATION:\,  
END:VEVENT
BEGIN:VEVENT
UID:7569eb6afa0e6bae85d04ab622858a33
DTSTAMP:20260425T120912Z
SUMMARY:[Herren LK1] CVJM Weissach  - CVJM Holzgerlingen 
URL:https://www.eichenkreuzliga.de/fussball/game/id/14884
DTSTART:20221112T173000
DTEND:20221112T183000
LOCATION:\,  
END:VEVENT
END:VCALENDAR
